BEGIN:VCALENDAR
VERSION:2.0
PRODID:-//Lorine Niedecker - ECPv6.15.20//NONSGML v1.0//EN
CALSCALE:GREGORIAN
METHOD:PUBLISH
X-WR-CALNAME:Lorine Niedecker
X-ORIGINAL-URL:https://lorineniedecker.org
X-WR-CALDESC:Events for Lorine Niedecker
REFRESH-INTERVAL;VALUE=DURATION:PT1H
X-Robots-Tag:noindex
X-PUBLISHED-TTL:PT1H
BEGIN:VTIMEZONE
TZID:America/Chicago
BEGIN:DAYLIGHT
TZOFFSETFROM:-0600
TZOFFSETTO:-0500
TZNAME:CDT
DTSTART:20230312T080000
END:DAYLIGHT
BEGIN:STANDARD
TZOFFSETFROM:-0500
TZOFFSETTO:-0600
TZNAME:CST
DTSTART:20231105T070000
END:STANDARD
BEGIN:DAYLIGHT
TZOFFSETFROM:-0600
TZOFFSETTO:-0500
TZNAME:CDT
DTSTART:20240310T080000
END:DAYLIGHT
BEGIN:STANDARD
TZOFFSETFROM:-0500
TZOFFSETTO:-0600
TZNAME:CST
DTSTART:20241103T070000
END:STANDARD
BEGIN:DAYLIGHT
TZOFFSETFROM:-0600
TZOFFSETTO:-0500
TZNAME:CDT
DTSTART:20250309T080000
END:DAYLIGHT
BEGIN:STANDARD
TZOFFSETFROM:-0500
TZOFFSETTO:-0600
TZNAME:CST
DTSTART:20251102T070000
END:STANDARD
END:VTIMEZONE
BEGIN:VEVENT
DTSTART;TZID=America/Chicago:20240808T183000
DTEND;TZID=America/Chicago:20240808T193000
DTSTAMP:20260420T192000
CREATED:20240710T165752Z
LAST-MODIFIED:20240819T231004Z
UID:2224-1723141800-1723145400@lorineniedecker.org
SUMMARY:Summer 2024 Solitary Plover Reading
DESCRIPTION:The Friends of Lorine Niedecker will host a reading by the poets published in the Summer 2024 Solitary Plover on Thursday\, August 8 at 6:30 p.m. CST. \n\n\n\nWe invite you to join us for this virtual reading conducted on Zoom. \n\n\n\n\n\n\n\n\n\n\nhttps://us02web.zoom.us/j/81761798711
URL:https://lorineniedecker.org/event/summer-2024-solitary-plover-reading/
CATEGORIES:Poetry Reading Series,Solitary Plover Reading Series
END:VEVENT
END:VCALENDAR