BEGIN:VCALENDAR
VERSION:2.0
PRODID:-//Lorine Niedecker - ECPv6.15.20//NONSGML v1.0//EN
CALSCALE:GREGORIAN
METHOD:PUBLISH
X-ORIGINAL-URL:https://lorineniedecker.org
X-WR-CALDESC:Events for Lorine Niedecker
REFRESH-INTERVAL;VALUE=DURATION:PT1H
X-Robots-Tag:noindex
X-PUBLISHED-TTL:PT1H
BEGIN:VTIMEZONE
TZID:America/Chicago
BEGIN:DAYLIGHT
TZOFFSETFROM:-0600
TZOFFSETTO:-0500
TZNAME:CDT
DTSTART:20220313T080000
END:DAYLIGHT
BEGIN:STANDARD
TZOFFSETFROM:-0500
TZOFFSETTO:-0600
TZNAME:CST
DTSTART:20221106T070000
END:STANDARD
BEGIN:DAYLIGHT
TZOFFSETFROM:-0600
TZOFFSETTO:-0500
TZNAME:CDT
DTSTART:20230312T080000
END:DAYLIGHT
BEGIN:STANDARD
TZOFFSETFROM:-0500
TZOFFSETTO:-0600
TZNAME:CST
DTSTART:20231105T070000
END:STANDARD
BEGIN:DAYLIGHT
TZOFFSETFROM:-0600
TZOFFSETTO:-0500
TZNAME:CDT
DTSTART:20240310T080000
END:DAYLIGHT
BEGIN:STANDARD
TZOFFSETFROM:-0500
TZOFFSETTO:-0600
TZNAME:CST
DTSTART:20241103T070000
END:STANDARD
END:VTIMEZONE
BEGIN:VEVENT
DTSTART;TZID=America/Chicago:20230326T170000
DTEND;TZID=America/Chicago:20230326T180000
DTSTAMP:20260420T043953
CREATED:20230408T034643Z
LAST-MODIFIED:20250425T140932Z
UID:1949-1679850000-1679853600@lorineniedecker.org
SUMMARY:North Central Reading Series: Shannon Tharp & Noah Zanella
DESCRIPTION:Friends of Lorine Niedecker (FoLN) present the first in a biannual series of North Central virtual readings on Sunday\, March 26\, 2023 at 5pm CST. Our inaugural readers will be Shannon Tharp (Denver\, CO) and Noah Zanella (Chicago\, IL). \n\n\n\nShannon Tharp is the author of The Cost of Walking (Skysill Press\, 2011) and Vertigo in Spring (The Cultural Society\, 2013). She’s also co-editor with Sommer Browning of Poet-Librarians in the Library of Babel: Innovative Meditations on Librarianship (Library Juice Press\, 2018). Her poems and essays have appeared in Blazing Stadium\, The Brooklyn Rail\, Coldfront Magazine\, The RS 500\, SALT\, Typo\, and The Volta\, among others. She lives in Denver\, where she’s a librarian at the University of Denver. \n\n\n\nNoah Zanella is a Chicago based writer and musician. He works as a professor at Carthage College\, an editor at MASKS literary magazine\, and a teaching artist at Hugo House. He’s also a cofounder of Gourd magazine\, which will be releasing its first issue in the fall. He credits Lorine Niedecker‘s writing with teaching him how to write poems\, and he reads her collected work every summer. \n\n\n\n\n\n\n\n\n\n 
URL:https://lorineniedecker.org/event/north-central-reading-shannon-tharp-noah-zanella-2/
CATEGORIES:North Central Reading Series
ORGANIZER;CN="Richard Meier":MAILTO:rmeier@carthage.edu
END:VEVENT
END:VCALENDAR