BEGIN:VCALENDAR
VERSION:2.0
PRODID:-//Lorine Niedecker - ECPv6.15.20//NONSGML v1.0//EN
CALSCALE:GREGORIAN
METHOD:PUBLISH
X-WR-CALNAME:Lorine Niedecker
X-ORIGINAL-URL:https://lorineniedecker.org
X-WR-CALDESC:Events for Lorine Niedecker
REFRESH-INTERVAL;VALUE=DURATION:PT1H
X-Robots-Tag:noindex
X-PUBLISHED-TTL:PT1H
BEGIN:VTIMEZONE
TZID:America/Chicago
BEGIN:DAYLIGHT
TZOFFSETFROM:-0600
TZOFFSETTO:-0500
TZNAME:CDT
DTSTART:20210314T080000
END:DAYLIGHT
BEGIN:STANDARD
TZOFFSETFROM:-0500
TZOFFSETTO:-0600
TZNAME:CST
DTSTART:20211107T070000
END:STANDARD
BEGIN:DAYLIGHT
TZOFFSETFROM:-0600
TZOFFSETTO:-0500
TZNAME:CDT
DTSTART:20220313T080000
END:DAYLIGHT
BEGIN:STANDARD
TZOFFSETFROM:-0500
TZOFFSETTO:-0600
TZNAME:CST
DTSTART:20221106T070000
END:STANDARD
BEGIN:DAYLIGHT
TZOFFSETFROM:-0600
TZOFFSETTO:-0500
TZNAME:CDT
DTSTART:20230312T080000
END:DAYLIGHT
BEGIN:STANDARD
TZOFFSETFROM:-0500
TZOFFSETTO:-0600
TZNAME:CST
DTSTART:20231105T070000
END:STANDARD
END:VTIMEZONE
BEGIN:VEVENT
DTSTART;TZID=America/Chicago:20221115T173000
DTEND;TZID=America/Chicago:20221115T183000
DTSTAMP:20260420T232057
CREATED:20230526T222349Z
LAST-MODIFIED:20260210T141632Z
UID:1953-1668533400-1668537000@lorineniedecker.org
SUMMARY:Solitary Plover Reading Series: Summer 2022 edition
DESCRIPTION:Hear The Solitary Plover\nTuesday\, November 15 at 6:30 p.m. Central Time\nThe Friends of Lorine Niedecker invites you to this special poetry event. The poets published in the Summer 2022 issue of “The Solitary Plover” will join us for a reading of their work. This reading will be moderated by Plover poetry editor Tom Montag\, who will also read from his latest work. \nPoets who will be reading their poetry are:\nLauren Carlson\, Margaret Coombs\, Tyler Farrell\,  Donna Fleischer\, Mary Fry\, Ronnie Hess\, Angela Hoffman\, Jeffrey Leisgang\, Stephen Manuel\, John Martone\, Marilyn K. Moody\, Elizabeth Harmatys Park\, Jean Preston\, Mary Rowin\, Jeanie Tomasko\, and Michael Dylan Welch. \nYou can join us by clicking on this Zoom link at the time of the program. \nThe Solitary Plover is the newsletter of the Friends of Lorine Niedecker. It is issued twice each year\, in winter and in summer. You can sign up to receive The Plover in your email\, read the Summer 2022 issue and previous issues on the Friends of Lorine Niedecker website here.
URL:https://lorineniedecker.org/event/solitary-plover-reading-series-summer-2022-edition-2/
LOCATION:WI
CATEGORIES:Solitary Plover Reading Series
END:VEVENT
BEGIN:VEVENT
DTSTART;TZID=America/Chicago:20220426T173000
DTEND;TZID=America/Chicago:20220426T183000
DTSTAMP:20260420T232057
CREATED:20230526T222211Z
LAST-MODIFIED:20260210T142243Z
UID:1952-1650994200-1650997800@lorineniedecker.org
SUMMARY:Solitary Plover Reading Series: Winter 2022 edition
DESCRIPTION:Hear The Solitary Plover\nThe Friends of Lorine Niedecker and the Dwight Foster Public Library invite you to celebrate National Poetry Month with this special poetry event at 6:30pm CT on on Tuesday\, April 26\, 2022. The poets published in the Winter 2022 issue of “The Solitary Plover” will join us in-person and remotely for a reading of their work. This reading will be moderated by Plover poetry editor Tom Montag\, who will also read from his latest work. \nYou can attend:\nIN PERSON at the Dwight Foster Public Library\, 209 Merchants Ave in Fort Atkinson \nREMOTELY by viewing the Live Stream on Youtube here. \nThe Solitary Plover is the newsletter of the Friends of Lorine Niedecker. It is issued twice each year\, in winter and in summer. You can sign up to receive The Plover in your email\, read the Winter 2022 issue and previous issues on the Friends of Lorine Niedecker website here.
URL:https://lorineniedecker.org/event/solitary-plover-reading-series-winter-2022-edition-2/
LOCATION:WI
CATEGORIES:Solitary Plover Reading Series
END:VEVENT
END:VCALENDAR